BEGIN:VCALENDAR
VERSION:2.0
PRODID:-//Indo Tribute - Tribute Indochine en Bretagne - ECPv6.15.20//NONSGML v1.0//EN
CALSCALE:GREGORIAN
METHOD:PUBLISH
X-WR-CALNAME:Indo Tribute - Tribute Indochine en Bretagne
X-ORIGINAL-URL:https://indo-tribute.fr
X-WR-CALDESC:Évènements pour Indo Tribute - Tribute Indochine en Bretagne
REFRESH-INTERVAL;VALUE=DURATION:PT1H
X-Robots-Tag:noindex
X-PUBLISHED-TTL:PT1H
BEGIN:VTIMEZONE
TZID:UTC
BEGIN:STANDARD
TZOFFSETFROM:+0000
TZOFFSETTO:+0000
TZNAME:UTC
DTSTART:20240101T000000
END:STANDARD
END:VTIMEZONE
BEGIN:VEVENT
DTSTART;TZID=UTC:20250125T220000
DTEND;TZID=UTC:20250125T233000
DTSTAMP:20260425T190415
CREATED:20250128T105453Z
LAST-MODIFIED:20250128T105453Z
UID:149-1737842400-1737847800@indo-tribute.fr
SUMMARY:Concert : Casino JOA - Les sables d'Olonne (85)
DESCRIPTION:Retrouvez indo-tribute en concert au casino joa
URL:https://indo-tribute.fr/evenement/concert-casino-joa-les-sables-dolonne-85/
LOCATION:Casino JOA des Pins\, 14 avenue Rhin et Danube\, Les Sables-d'Olonne\, 85100\, France
END:VEVENT
END:VCALENDAR