BEGIN:VCALENDAR
VERSION:2.0
PRODID:-//Indo Tribute - Tribute Indochine en Bretagne - ECPv6.15.20//NONSGML v1.0//EN
CALSCALE:GREGORIAN
METHOD:PUBLISH
X-ORIGINAL-URL:https://indo-tribute.fr
X-WR-CALDESC:Évènements pour Indo Tribute - Tribute Indochine en Bretagne
REFRESH-INTERVAL;VALUE=DURATION:PT1H
X-Robots-Tag:noindex
X-PUBLISHED-TTL:PT1H
BEGIN:VTIMEZONE
TZID:UTC
BEGIN:STANDARD
TZOFFSETFROM:+0000
TZOFFSETTO:+0000
TZNAME:UTC
DTSTART:20240101T000000
END:STANDARD
END:VTIMEZONE
BEGIN:VEVENT
DTSTART;TZID=UTC:20250315T190000
DTEND;TZID=UTC:20250315T233000
DTSTAMP:20260420T123536
CREATED:20250313T191922Z
LAST-MODIFIED:20250313T191922Z
UID:200-1742065200-1742081400@indo-tribute.fr
SUMMARY:Concert à Plumergat (56)
DESCRIPTION:Une soirée organisée par l’ecole St Joseph…. \n3 groupes : \n1/ disco rock \n2/ Oasic (Tribute Oasis) \n3/ Indo Tribute (Tribute Indochine) \nRéservez vos places dès à présent !
URL:https://indo-tribute.fr/evenement/concert-a-plumergat-56/
END:VEVENT
END:VCALENDAR